Workbook

Sheet 0_Sales
A1: SalesNum | B1: invoiceNumber | C1: InvoiceDate | D1: DueDate | E1: InvoiceAmount | F1: SettledDate | G1: RecordedAmount | H1: Misstatement | I1: %Misstatement
A2: 1 | B2: 27545037 | C2: 41259 | D2: 41289 | E2: 7506 | F2: 41286 | G2: 7506 | H2: 0 | I2: 0
A3: 2 | B3: 55416013 | C3: 41243 | D3: 41273 | E3: 4201 | F3: 41290 | G3: 4201 | H3: 0 | I3: 0
A4: 3 | B4: 93006859 | C4: 41267 | D4: 41297 | E4: 2446 | F4: 41305 | G4: 2446 | H4: 0 | I4: 0 | L4: Sales | M4: 99
A5: 4 | B5: 123645023 | C5: 41265 | D5: 41295 | E5: 4436 | F5: 41298 | G5: 4436 | H5: 0 | I5: 0 | L5: Recorded Population | M5: 529293.9
A6: 5 | B6: 237437528 | C6: 41252 | D6: 41282 | E6: 3569 | F6: 41289 | G6: 3569 | H6: 0 | I6: 0 | L6: Actual Population | M6: 494080
A7: 6 | B7: 254550541 | C7: 41271 | D7: 41301 | E7: 6159 | F7: 41282 | G7: 6159 | H7: 0 | I7: 0 | L7: Total Misstatement | M7: 35213.9
A8: 7 | B8: 326671411 | C8: 41270 | D8: 41300 | E8: 885 | F8: 41292 | G8: 1398.3 | H8: 513.3 | I8: 0.58 | L8: Tolerable Misstatement | M8: 26464.695 | N8: 0.05
A9: 8 | B9: 355095997 | C9: 41255 | D9: 41285 | E9: 3138 | F9: 41279 | G9: 3138 | H9: 0 | I9: 0 | L9: Expected Misstatement | M9: 15878.817 | N9: 0.03
A10: 9 | B10: 511851896 | C10: 41269 | D10: 41299 | E10: 827 | F10: 41280 | G10: 827 | H10: 0 | I10: 0
A11: 10 | B11: 578091983 | C11: 41256 | D11: 41286 | E11: 3609 | F11: 41304 | G11: 6460.11 | H11: 2851.11 | I11: 0.79 | L11: Count of Sales with Misstatement | M11: 10
A12: 11 | B12: 640587193 | C12: 41267 | D12: 41297 | E12: 6418 | F12: 41292 | G12: 6418 | H12: 0 | I12: 0 | L12: Sales with Misstatement #1 | M12: 55
A13: 12 | B13: 659596494 | C13: 41248 | D13: 41278 | E13: 7565 | F13: 41288 | G13: 7565 | H13: 0 | I13: 0 | L13: Sales with Misstatement #2 | M13: 57
A14: 13 | B14: 764361492 | C14: 41230 | D14: 41260 | E14: 638 | F14: 41279 | G14: 638 | H14: 0 | I14: 0 | L14: Sales with Misstatement #3 | M14: 79
A15: 14 | B15: 881665013 | C15: 41268 | D15: 41298 | E15: 3797 | F15: 41316 | G15: 3797 | H15: 0 | I15: 0 | L15: Sales with Misstatement #4 | M15: 7
A16: 15 | B16: 921537795 | C16: 41273 | D16: 41303 | E16: 4984 | F16: 41290 | G16: 9120.72 | H16: 4136.72 | I16: 0.83 | L16: Sales with Misstatement #5 | M16: 35
A17: 16 | B17: 936925570 | C17: 41253 | D17: 41283 | E17: 3098 | F17: 41291 | G17: 3098 | H17: 0 | I17: 0 | L17: Sales with Misstatement #6 | M17: 37
A18: 17 | B18: 979439975 | C18: 41237 | D18: 41267 | E18: 3962 | F18: 41284 | G18: 3962 | H18: 0 | I18: 0 | L18: Sales with Misstatement #7 | M18: 62
A19: 18 | B19: 1006151066 | C19: 41237 | D19: 41267 | E19: 8366 | F19: 41277 | G19: 8366 | H19: 0 | I19: 0 | L19: Sales with Misstatement #8 | M19: 15
A20: 19 | B20: 1282903123 | C20: 41268 | D20: 41298 | E20: 5932 | F20: 41290 | G20: 5932 | H20: 0 | I20: 0 | L20: Sales with Misstatement #9 | M20: 32
A21: 20 | B21: 1390614217 | C21: 41268 | D21: 41298 | E21: 2807 | F21: 41297 | G21: 2807 | H21: 0 | I21: 0 | L21: Sales with Misstatement #10 | M21: 78
A22: 21 | B22: 1536168471 | C22: 41262 | D22: 41292 | E22: 6348 | F22: 41287 | G22: 6348 | H22: 0 | I22: 0
A23: 22 | B23: 1544728256 | C23: 41270 | D23: 41300 | E23: 7226 | F23: 41287 | G23: 7226 | H23: 0 | I23: 0
A24: 23 | B24: 1666441527 | C24: 41258 | D24: 41288 | E24: 5427 | F24: 41302 | G24: 5427 | H24: 0 | I24: 0
A25: 24 | B25: 1702975198 | C25: 41243 | D25: 41273 | E25: 8644 | F25: 41276 | G25: 8644 | H25: 0 | I25: 0
A26: 25 | B26: 1748015447 | C26: 41267 | D26: 41297 | E26: 7519 | F26: 41299 | G26: 7519 | H26: 0 | I26: 0
A27: 26 | B27: 1953588118 | C27: 41246 | D27: 41276 | E27: 5105 | F27: 41275 | G27: 5105 | H27: 0 | I27: 0
A28: 27 | B28: 2079957616 | C28: 41266 | D28: 41296 | E28: 6258 | F28: 41287 | G28: 6258 | H28: 0 | I28: 0
A29: 28 | B29: 2099442850 | C29: 41238 | D29: 41268 | E29: 731 | F29: 41287 | G29: 731 | H29: 0 | I29: 0
A30: 29 | B30: 2399454051 | C30: 41261 | D30: 41291 | E30: 4156 | F30: 41299 | G30: 4156 | H30: 0 | I30: 0
A31: 30 | B31: 2442634583 | C31: 41271 | D31: 41301 | E31: 4511 | F31: 41288 | G31: 4511 | H31: 0 | I31: 0
A32: 31 | B32: 2680537112 | C32: 41274 | D32: 41304 | E32: 4968 | F32: 41307 | G32: 4968 | H32: 0 | I32: 0
A33: 32 | B33: 2714712437 | C33: 41271 | D33: 41301 | E33: 9631 | F33: 41296 | G33: 15024.36 | H33: 5393.36 | I33: 0.56
... A100: 99 | B100: 9941572096 | C100: 41231 | D100: 41261 | E100: 7416 | F100: 41276 | G100: 7416 | H100: 0 | I100: 0

Sheet 1_Sample_Size
B2: Method Used: | C2: Confidence Factor Approach
B3: Population Size: | C3: ='0_Sales'!M5 -> 529293.9
B4: Tolerable Misstatement: | C4: ='0_Sales'!M8 -> 26464.695
B5: Expected Misstatement: | C5: ='0_Sales'!M9 -> 15878.817
B6: Ratio of Expected to Tolerable Misstatement: | C6: =C5/C4 -> 0.6 | D6: =C5/C4
B7: Confidence Factor: | C7: 17.85 | D7: See Table C-2 (Appendix C of the AICPA Audit Sampling Guide, Ratio of Expected to Tolerable Misstatement: 0.60, Risk of Incorrect Acceptance: 5%
B9: Sample Size: | C9: =ROUND((C3*C7)/C4,0) -> 357 | D9: =ROUND((C3*C7)/C4;0)

Sheet 2_Select_Sample_Item
A1: InvoiceNumber | B1: RecordedAmount | C1: CumulativeAmount | D1: AssignedRangeStart | E1: AssignedRangeEnd | F1: AssignedRange | G1: InvoiceNumber2
A2: 27545037 | B2: 7506 | C2: =B2 -> 7506 | D2: 1 | E2: =C2 -> 7506 | F2: =TEXT(D2,"0,00")&" - "&TEXT(E2,"0,00") -> 1,00 - 7506,00 | G2: =A2 -> 27545037 | J2: Population | K2: ='1_Sample_Size'!C3 -> 529293.9
A3: 55416013 | B3: 4201 | C3: =C2+B3 -> 11707 | D3: =E2+1 -> 7507 | E3: =C3 -> 11707 | F3: =TEXT(D3,"0,00")&" - "&TEXT(E3,"0,00") -> 7507,00 - 11707,00 | G3: =A3 -> 55416013 | J3: Sample Size | K3: ='1_Sample_Size'!C9 -> 357
A4: 93006859 | B4: 2446 | C4: =C3+B4 -> 14153 | D4: =E3+1 -> 11708 | E4: =C4 -> 14153 | F4: =TEXT(D4,"0,00")&" - "&TEXT(E4,"0,00") -> 11708,00 - 14153,00 | G4: =A4 -> 93006859 | J4: Cells' count | K4: =K3 -> 357
A5: 123645023 | B5: 4436 | C5: =C4+B5 -> 18589 | D5: =E4+1 -> 14154 | E5: =C5 -> 18589 | F5: =TEXT(D5,"0,00")&" - "&TEXT(E5,"0,00") -> 14154,00 - 18589,00 | G5: =A5 -> 123645023 | J5: Cells' width | K5: =K2/K4 -> 1482.616
A6: 237437528 | B6: 3569 | C6: =C5+B6 -> 22158 | D6: =E5+1 -> 18590 | E6: =C6 -> 22158 | F6: =TEXT(D6,"0,00")&" - "&TEXT(E6,"0,00") -> 18590,00 - 22158,00 | G6: =A6 -> 237437528
A7: 254550541 | B7: 6159 | C7: =C6+B7 -> 28317 | D7: =E6+1 -> 22159 | E7: =C7 -> 28317 | F7: =TEXT(D7,"0,00")&" - "&TEXT(E7,"0,00") -> 22159,00 - 28317,00 | G7: =A7 -> 254550541
A8: 326671411 | B8: 1398.3 | C8: =C7+B8 -> 29715.3 | D8: =E7+1 -> 28318 | E8: =C8 -> 29715.3 | F8: =TEXT(D8,"0,00")&" - "&TEXT(E8,"0,00") -> 28318,00 - 29715,30 | G8: =A8 -> 326671411 | I8: Num | J8: Cell Num | K8: Cell's Range Start | L8: Cell's Range End | M8: Cell's Range | N8: Random Number | O8: Invoice Num | Q8: Invoice Num | S8: Random Number | T8: Invoice Num
A9: 355095997 | B9: 3138 | C9: =C8+B9 -> 32853.3 | D9: =E8+1 -> 29716.3 | E9: =C9 -> 32853.3 | F9: =TEXT(D9,"0,00")&" - "&TEXT(E9,"0,00") -> 29716,30 - 32853,30 | G9: =A9 -> 355095997 | I9: 1 | J9: =I9&" cell" -> 1 cell | K9: 1 | L9: =Table3[[#This Row],[Num]]*$K$4 -> 357 | M9: =TEXT(Table3[[#This Row],[Cell''s Range Start]],"0,00")&" - "&TEXT(Table3[[#This Row],[Cell''s Range End]],"0,00") -> 1,00 - 357,00 | N9: 233 | O9: =VLOOKUP(N9,$D$2:$G$100,4,TRUE) -> 27545037 | P9: =VLOOKUP(N9,$E$2:$G$100,2,TRUE) -> #N/A | S9: =RANDBETWEEN(L9,M9) -> #VALUE!
A10: 511851896 | B10: 827 | C10: =C9+B10 -> 33680.3 | D10: =E9+1 -> 32854.3 | E10: =C10 -> 33680.3 | F10: =TEXT(D10,"0,00")&" - "&TEXT(E10,"0,00") -> 32854,30 - 33680,30 | G10: =A10 -> 511851896 | I10: =I9+1 -> 2 | J10: =I10&" cell" -> 2 cell | K10: =L9+1 -> 358 | L10: =Table3[[#This Row],[Num]]*$K$4 -> 714 | M10: =TEXT(Table3[[#This Row],[Cell''s Range Start]],"0,00")&" - "&TEXT(Table3[[#This Row],[Cell''s Range End]],"0,00") -> 358,00 - 714,00 | N10: 492 | O10: =VLOOKUP(N10,$D$2:$G$100,4,TRUE) -> 27545037 | P10: =VLOOKUP(N10,$E$2:$G$100,2,TRUE) -> #N/A | S10: =RANDBETWEEN(L10,M10) -> #VALUE!
A11: 578091983 | B11: 6460.11 | C11: =C10+B11 -> 40140.41 | D11: =E10+1 -> 33681.3 | E11: =C11 -> 40140.41 | F11: =TEXT(D11,"0,00")&" - "&TEXT(E11,"0,00") -> 33681,30 - 40140,41 | G11: =A11 -> 578091983 | I11: =I10+1 -> 3 | J11: =I11&" cell" -> 3 cell | K11: =L10+1 -> 715 | L11: =Table3[[#This Row],[Num]]*$K$4 -> 1071 | M11: =TEXT(Table3[[#This Row],[Cell''s Range Start]],"0,00")&" - "&TEXT(Table3[[#This Row],[Cell''s Range End]],"0,00") -> 715,00 - 1071,00 | N11: 834 | O11: =VLOOKUP(N11,$D$2:$G$100,4,TRUE) -> 27545037 | P11: =VLOOKUP(N11,$E$2:$G$100,2,TRUE) -> #N/A | S11: =RANDBETWEEN(L11,M11) -> #VALUE!
A12: 640587193 | B12: 6418 | C12: =C11+B12 -> 46558.41 | D12: =E11+1 -> 40141.41 | E12: =C12 -> 46558.41 | F12: =TEXT(D12,"0,00")&" - "&TEXT(E12,"0,00") -> 40141,41 - 46558,41 | G12: =A12 -> 640587193 | I12: =I11+1 -> 4 | J12: =I12&" cell" -> 4 cell | K12: =L11+1 -> 1072 | L12: =Table3[[#This Row],[Num]]*$K$4 -> 1428 | M12: =TEXT(Table3[[#This Row],[Cell''s Range Start]],"0,00")&" - "&TEXT(Table3[[#This Row],[Cell''s Range End]],"0,00") -> 1072,00 - 1428,00 | N12: 1249 | O12: =VLOOKUP(N12,$D$2:$G$100,4,TRUE) -> 27545037 | P12: =VLOOKUP(N12,$E$2:$G$100,2,TRUE) -> #N/A | S12: =RANDBETWEEN(L12,M12) -> #VALUE!
A13: 659596494 | B13: 7565 | C13: =C12+B13 -> 54123.41 | D13: =E12+1 -> 46559.41 | E13: =C13 -> 54123.41 | F13: =TEXT(D13,"0,00")&" - "&TEXT(E13,"0,00") -> 46559,41 - 54123,41 | G13: =A13 -> 659596494 | I13: =I12+1 -> 5 | J13: =I13&" cell" -> 5 cell | K13: =L12+1 -> 1429 | L13: =Table3[[#This Row],[Num]]*$K$4 -> 1785 | M13: =TEXT(Table3[[#This Row],[Cell''s Range Start]],"0,00")&" - "&TEXT(Table3[[#This Row],[Cell''s Range End]],"0,00") -> 1429,00 - 1785,00 | N13: 1755 | O13: =VLOOKUP(N13,$D$2:$G$100,4,TRUE) -> 27545037 | P13: =VLOOKUP(N13,$E$2:$G$100,2,TRUE) -> #N/A | S13: =RANDBETWEEN(L13,M13) -> #VALUE!
A14: 764361492 | B14: 638 | C14: =C13+B14 -> 54761.41 | D14: =E13+1 -> 54124.41 | E14: =C14 -> 54761.41 | F14: =TEXT(D14,"0,00")&" - "&TEXT(E14,"0,00") -> 54124,41 - 54761,41 | G14: =A14 -> 764361492 | I14: =I13+1 -> 6 | J14: =I14&" cell" -> 6 cell | K14: =L13+1 -> 1786 | L14: =Table3[[#This Row],[Num]]*$K$4 -> 2142 | M14: =TEXT(Table3[[#This Row],[Cell''s Range Start]],"0,00")&" - "&TEXT(Table3[[#This Row],[Cell''s Range End]],"0,00") -> 1786,00 - 2142,00 | N14: 2056 | O14: =VLOOKUP(N14,$D$2:$G$100,4,TRUE) -> 27545037 | P14: =VLOOKUP(N14,$E$2:$G$100,2,TRUE) -> #N/A | S14: =RANDBETWEEN(L14,M14) -> #VALUE!
A15: 881665013 | B15: 3797 | C15: =C14+B15 -> 58558.41 | D15: =E14+1 -> 54762.41 | E15: =C15 -> 58558.41 | F15: =TEXT(D15,"0,00")&" - "&TEXT(E15,"0,00") -> 54762,41 - 58558,41 | G15: =A15 -> 881665013 | I15: =I14+1 -> 7 | J15: =I15&" cell" -> 7 cell | K15: =L14+1 -> 2143 | L15: =Table3[[#This Row],[Num]]*$K$4 -> 2499 | M15: =TEXT(Table3[[#This Row],[Cell''s Range Start]],"0,00")&" - "&TEXT(Table3[[#This Row],[Cell''s Range End]],"0,00") -> 2143,00 - 2499,00 | N15: 2249 | O15: =VLOOKUP(N15,$D$2:$G$100,4,TRUE) -> 27545037 | P15: =VLOOKUP(N15,$E$2:$G$100,2,TRUE) -> #N/A | S15: =RANDBETWEEN(L15,M15) -> #VALUE!
A16: 921537795 | B16: 9120.72 | C16: =C15+B16 -> 67679.13 | D16: =E15+1 -> 58559.41 | E16: =C16 -> 67679.13 | F16: =TEXT(D16,"0,00")&" - "&TEXT(E16,"0,00") -> 58559,41 - 67679,13 | G16: =A16 -> 921537795 | I16: =I15+1 -> 8 | J16: =I16&" cell" -> 8 cell | K16: =L15+1 -> 2500 | L16: =Table3[[#This Row],[Num]]*$K$4 -> 2856 | M16: =TEXT(Table3[[#This Row],[Cell''s Range Start]],"0,00")&" - "&TEXT(Table3[[#This Row],[Cell''s Range End]],"0,00") -> 2500,00 - 2856,00 | N16: 2815 | O16: =VLOOKUP(N16,$D$2:$G$100,4,TRUE) -> 27545037 | P16: =VLOOKUP(N16,$E$2:$G$100,2,TRUE) -> #N/A | S16: =RANDBETWEEN(L16,M16) -> #VALUE!
A17: 936925570 | B17: 3098 | C17: =C16+B17 -> 70777.13 | D17: =E16+1 -> 67680.13 | E17: =C17 -> 70777.13 | F17: =TEXT(D17,"0,00")&" - "&TEXT(E17,"0,00") -> 67680,13 - 70777,13 | G17: =A17 -> 936925570 | I17: =I16+1 -> 9 | J17: =I17&" cell" -> 9 cell | K17: =L16+1 -> 2857 | L17: =Table3[[#This Row],[Num]]*$K$4 -> 3213 | M17: =TEXT(Table3[[#This Row],[Cell''s Range Start]],"0,00")&" - "&TEXT(Table3[[#This Row],[Cell''s Range End]],"0,00") -> 2857,00 - 3213,00 | N17: 3061 | O17: =VLOOKUP(N17,$D$2:$G$100,4,TRUE) -> 27545037 | P17: =VLOOKUP(N17,$E$2:$G$100,2,TRUE) -> #N/A | S17: =RANDBETWEEN(L17,M17) -> #VALUE!
A18: 979439975 | B18: 3962 | C18: =C17+B18 -> 74739.13 | D18: =E17+1 -> 70778.13 | E18: =C18 -> 74739.13 | F18: =TEXT(D18,"0,00")&" - "&TEXT(E18,"0,00") -> 70778,13 - 74739,13 | G18: =A18 -> 979439975 | I18: =I17+1 -> 10 | J18: =I18&" cell" -> 10 cell | K18: =L17+1 -> 3214 | L18: =Table3[[#This Row],[Num]]*$K$4 -> 3570 | M18: =TEXT(Table3[[#This Row],[Cell''s Range Start]],"0,00")&" - "&TEXT(Table3[[#This Row],[Cell''s Range End]],"0,00") -> 3214,00 - 3570,00 | N18: 3229 | O18: =VLOOKUP(N18,$D$2:$G$100,4,TRUE) -> 27545037 | P18: =VLOOKUP(N18,$E$2:$G$100,2,TRUE) -> #N/A | S18: =RANDBETWEEN(L18,M18) -> #VALUE!
A19: 1006151066 | B19: 8366 | C19: =C18+B19 -> 83105.13 | D19: =E18+1 -> 74740.13 | E19: =C19 -> 83105.13 | F19: =TEXT(D19,"0,00")&" - "&TEXT(E19,"0,00") -> 74740,13 - 83105,13 | G19: =A19 -> 1006151066 | I19: =I18+1 -> 11 | J19: =I19&" cell" -> 11 cell | K19: =L18+1 -> 3571 | L19: =Table3[[#This Row],[Num]]*$K$4 -> 3927 | M19: =TEXT(Table3[[#This Row],[Cell''s Range Start]],"0,00")&" - "&TEXT(Table3[[#This Row],[Cell''s Range End]],"0,00") -> 3571,00 - 3927,00 | N19: 3903 | O19: =VLOOKUP(N19,$D$2:$G$100,4,TRUE) -> 27545037 | P19: =VLOOKUP(N19,$E$2:$G$100,2,TRUE) -> #N/A | S19: =RANDBETWEEN(L19,M19) -> #VALUE!
A20: 1282903123 | B20: 5932 | C20: =C19+B20 -> 89037.13 | D20: =E19+1 -> 83106.13 | E20: =C20 -> 89037.13 | F20: =TEXT(D20,"0,00")&" - "&TEXT(E20,"0,00") -> 83106,13 - 89037,13 | G20: =A20 -> 1282903123 | I20: =I19+1 -> 12 | J20: =I20&" cell" -> 12 cell | K20: =L19+1 -> 3928 | L20: =Table3[[#This Row],[Num]]*$K$4 -> 4284 | M20: =TEXT(Table3[[#This Row],[Cell''s Range Start]],"0,00")&" - "&TEXT(Table3[[#This Row],[Cell''s Range End]],"0,00") -> 3928,00 - 4284,00 | N20: 4123 | O20: =VLOOKUP(N20,$D$2:$G$100,4,TRUE) -> 27545037 | P20: =VLOOKUP(N20,$E$2:$G$100,2,TRUE) -> #N/A | S20: =RANDBETWEEN(L20,M20) -> #VALUE!
A21: 1390614217 | B21: 2807 | C21: =C20+B21 -> 91844.13 | D21: =E20+1 -> 89038.13 | E21: =C21 -> 91844.13 | F21: =TEXT(D21,"0,00")&" - "&TEXT(E21,"0,00") -> 89038,13 - 91844,13 | G21: =A21 -> 1390614217 | I21: =I20+1 -> 13 | J21: =I21&" cell" -> 13 cell | K21: =L20+1 -> 4285 | L21: =Table3[[#This Row],[Num]]*$K$4 -> 4641 | M21: =TEXT(Table3[[#This Row],[Cell''s Range Start]],"0,00")&" - "&TEXT(Table3[[#This Row],[Cell''s Range End]],"0,00") -> 4285,00 - 4641,00 | N21: 4461 | O21: =VLOOKUP(N21,$D$2:$G$100,4,TRUE) -> 27545037 | P21: =VLOOKUP(N21,$E$2:$G$100,2,TRUE) -> #N/A | S21: =RANDBETWEEN(L21,M21) -> #VALUE!
... A100: 9941572096 | B100: 7416 | C100: =C99+B100 -> 529293.9 | D100: =E99+1 -> 521878.9 | E100: =C100 -> 529293.9 | F100: =TEXT(D100,"0,00")&" - "&TEXT(E100,"0,00") -> 521878,90 - 529293,90 | G100: =A100 -> 9941572096 | I100: =I99+1 -> 92 | J100: =I100&" cell" -> 92 cell | K100: =L99+1 -> 32488 | L100: =Table3[[#This Row],[Num]]*$K$4 -> 32844 | M100: =TEXT(Table3[[#This Row],[Cell''s Range Start]],"0,00")&" - "&TEXT(Table3[[#This Row],[Cell''s Range End]],"0,00") -> 32488,00 - 32844,00 | N100: 32816 | O100: =VLOOKUP(N100,$D$2:$G$100,4,TRUE) -> 355095997 | P100: =VLOOKUP(N100,$E$2:$G$100,2,TRUE) -> 28318,00 - 29715,30 | S100: =RANDBETWEEN(L100,M100) -> #VALUE!
B101: =SUM(B2:B100) -> 529293.9 | I101: =I100+1 -> 93 | J101: =I101&" cell" -> 93 cell | K101: =L100+1 -> 32845 | L101: =Table3[[#This Row],[Num]]*$K$4 -> 33201 | M101: =TEXT(Table3[[#This Row],[Cell''s Range Start]],"0,00")&" - "&TEXT(Table3[[#This Row],[Cell''s Range End]],"0,00") -> 32845,00 - 33201,00 | N101: 32893 | O101: =VLOOKUP(N101,$D$2:$G$100,4,TRUE) -> 511851896 | P101: =VLOOKUP(N101,$E$2:$G$100,2,TRUE) -> 29716,30 - 32853,30 | S101: =RANDBETWEEN(L101,M101) -> #VALUE!
I102: =I101+1 -> 94 | J102: =I102&" cell" -> 94 cell | K102: =L101+1 -> 33202 | L102: =Table3[[#This Row],[Num]]*$K$4 -> 33558 | M102: =TEXT(Table3[[#This Row],[Cell''s Range Start]],"0,00")&" - "&TEXT(Table3[[#This Row],[Cell''s Range End]],"0,00") -> 33202,00 - 33558,00 | N102: 33386 | O102: =VLOOKUP(N102,$D$2:$G$100,4,TRUE) -> 511851896 | P102: =VLOOKUP(N102,$E$2:$G$100,2,TRUE) -> 29716,30 - 32853,30 | S102: =RANDBETWEEN(L102,M102) -> #VALUE!
I103: =I102+1 -> 95 | J103: =I103&" cell" -> 95 cell | K103: =L102+1 -> 33559 | L103: =Table3[[#This Row],[Num]]*$K$4 -> 33915 | M103: =TEXT(Table3[[#This Row],[Cell''s Range Start]],"0,00")&" - "&TEXT(Table3[[#This Row],[Cell''s Range End]],"0,00") -> 33559,00 - 33915,00 | N103: 33876 | O103: =VLOOKUP(N103,$D$2:$G$100,4,TRUE) -> 578091983 | P103: =VLOOKUP(N103,$E$2:$G$100,2,TRUE) -> 32854,30 - 33680,30 | S103: =RANDBETWEEN(L103,M103) -> #VALUE!
I104: =I103+1 -> 96 | J104: =I104&" cell" -> 96 cell | K104: =L103+1 -> 33916 | L104: =Table3[[#This Row],[Num]]*$K$4 -> 34272 | M104: =TEXT(Table3[[#This Row],[Cell''s Range Start]],"0,00")&" - "&TEXT(Table3[[#This Row],[Cell''s Range End]],"0,00") -> 33916,00 - 34272,00 | N104: 33969 | O104: =VLOOKUP(N104,$D$2:$G$100,4,TRUE) -> 578091983 | P104: =VLOOKUP(N104,$E$2:$G$100,2,TRUE) -> 32854,30 - 33680,30 | S104: =RANDBETWEEN(L104,M104) -> #VALUE!
I105: =I104+1 -> 97 | J105: =I105&" cell" -> 97 cell | K105: =L104+1 -> 34273 | L105: =Table3[[#This Row],[Num]]*$K$4 -> 34629 | M105: =TEXT(Table3[[#This Row],[Cell''s Range Start]],"0,00")&" - "&TEXT(Table3[[#This Row],[Cell''s Range End]],"0,00") -> 34273,00 - 34629,00 | N105: 34480 | O105: =VLOOKUP(N105,$D$2:$G$100,4,TRUE) -> 578091983 | P105: =VLOOKUP(N105,$E$2:$G$100,2,TRUE) -> 32854,30 - 33680,30 | S105: =RANDBETWEEN(L105,M105) -> #VALUE!
I106: =I105+1 -> 98 | J106: =I106&" cell" -> 98 cell | K106: =L105+1 -> 34630 | L106: =Table3[[#This Row],[Num]]*$K$4 -> 34986 | M106: =TEXT(Table3[[#This Row],[Cell''s Range Start]],"0,00")&" - "&TEXT(Table3[[#This Row],[Cell''s Range End]],"0,00") -> 34630,00 - 34986,00 | N106: 34835 | O106: =VLOOKUP(N106,$D$2:$G$100,4,TRUE) -> 578091983 | P106: =VLOOKUP(N106,$E$2:$G$100,2,TRUE) -> 32854,30 - 33680,30 | S106: =RANDBETWEEN(L106,M106) -> #VALUE!
I107: =I106+1 -> 99 | J107: =I107&" cell" -> 99 cell | K107: =L106+1 -> 34987 | L107: =Table3[[#This Row],[Num]]*$K$4 -> 35343 | M107: =TEXT(Table3[[#This Row],[Cell''s Range Start]],"0,00")&" - "&TEXT(Table3[[#This Row],[Cell''s Range End]],"0,00") -> 34987,00 - 35343,00 | N107: 35253 | O107: =VLOOKUP(N107,$D$2:$G$100,4,TRUE) -> 578091983 | P107: =VLOOKUP(N107,$E$2:$G$100,2,TRUE) -> 32854,30 - 33680,30 | S107: =RANDBETWEEN(L107,M107) -> #VALUE!
I108: =I107+1 -> 100 | J108: =I108&" cell" -> 100 cell | K108: =L107+1 -> 35344 | L108: =Table3[[#This Row],[Num]]*$K$4 -> 35700 | M108: =TEXT(Table3[[#This Row],[Cell''s Range Start]],"0,00")&" - "&TEXT(Table3[[#This Row],[Cell''s Range End]],"0,00") -> 35344,00 - 35700,00 | N108: 35513 | O108: =VLOOKUP(N108,$D$2:$G$100,4,TRUE) -> 578091983 | P108: =VLOOKUP(N108,$E$2:$G$100,2,TRUE) -> 32854,30 - 33680,30 | S108: =RANDBETWEEN(L108,M108) -> #VALUE!
I109: =I108+1 -> 101 | J109: =I109&" cell" -> 101 cell | K109: =L108+1 -> 35701 | L109: =Table3[[#This Row],[Num]]*$K$4 -> 36057 | M109: =TEXT(Table3[[#This Row],[Cell''s Range Start]],"0,00")&" - "&TEXT(Table3[[#This Row],[Cell''s Range End]],"0,00") -> 35701,00 - 36057,00 | N109: 36014 | O109: =VLOOKUP(N109,$D$2:$G$100,4,TRUE) -> 578091983 | P109: =VLOOKUP(N109,$E$2:$G$100,2,TRUE) -> 32854,30 - 33680,30 | S109: =RANDBETWEEN(L109,M109) -> #VALUE!
I110: =I109+1 -> 102 | J110: =I110&" cell" -> 102 cell | K110: =L109+1 -> 36058 | L110: =Table3[[#This Row],[Num]]*$K$4 -> 36414 | M110: =TEXT(Table3[[#This Row],[Cell''s Range Start]],"0,00")&" - "&TEXT(Table3[[#This Row],[Cell''s Range End]],"0,00") -> 36058,00 - 36414,00 | N110: 36301 | O110: =VLOOKUP(N110,$D$2:$G$100,4,TRUE) -> 578091983 | P110: =VLOOKUP(N110,$E$2:$G$100,2,TRUE) -> 32854,30 - 33680,30 | S110: =RANDBETWEEN(L110,M110) -> #VALUE!
I111: =I110+1 -> 103 | J111: =I111&" cell" -> 103 cell | K111: =L110+1 -> 36415 | L111: =Table3[[#This Row],[Num]]*$K$4 -> 36771 | M111: =TEXT(Table3[[#This Row],[Cell''s Range Start]],"0,00")&" - "&TEXT(Table3[[#This Row],[Cell''s Range End]],"0,00") -> 36415,00 - 36771,00 | N111: 36426 | O111: =VLOOKUP(N111,$D$2:$G$100,4,TRUE) -> 578091983 | P111: =VLOOKUP(N111,$E$2:$G$100,2,TRUE) -> 32854,30 - 33680,30 | S111: =RANDBETWEEN(L111,M111) -> #VALUE!
I112: =I111+1 -> 104 | J112: =I112&" cell" -> 104 cell | K112: =L111+1 -> 36772 | L112: =Table3[[#This Row],[Num]]*$K$4 -> 37128 | M112: =TEXT(Table3[[#This Row],[Cell''s Range Start]],"0,00")&" - "&TEXT(Table3[[#This Row],[Cell''s Range End]],"0,00") -> 36772,00 - 37128,00 | N112: 37124 | O112: =VLOOKUP(N112,$D$2:$G$100,4,TRUE) -> 578091983 | P112: =VLOOKUP(N112,$E$2:$G$100,2,TRUE) -> 32854,30 - 33680,30 | S112: =RANDBETWEEN(L112,M112) -> #VALUE!
I113: =I112+1 -> 105 | J113: =I113&" cell" -> 105 cell | K113: =L112+1 -> 37129 | L113: =Table3[[#This Row],[Num]]*$K$4 -> 37485 | M113: =TEXT(Table3[[#This Row],[Cell''s Range Start]],"0,00")&" - "&TEXT(Table3[[#This Row],[Cell''s Range End]],"0,00") -> 37129,00 - 37485,00 | N113: 37467 | O113: =VLOOKUP(N113,$D$2:$G$100,4,TRUE) -> 578091983 | P113: =VLOOKUP(N113,$E$2:$G$100,2,TRUE) -> 32854,30 - 33680,30 | S113: =RANDBETWEEN(L113,M113) -> #VALUE!
... I365: =I364+1 -> 357 | J365: =I365&" cell" -> 357 cell | K365: =L364+1 -> 127093 | L365: =Table3[[#This Row],[Num]]*$K$4 -> 127449 | M365: =TEXT(Table3[[#This Row],[Cell''s Range Start]],"0,00")&" - "&TEXT(Table3[[#This Row],[Cell''s Range End]],"0,00") -> 127093,00 - 127449,00 | N365: 127405 | O365: =VLOOKUP(N365,$D$2:$G$100,4,TRUE) -> 1953588118 | P365: =VLOOKUP(N365,$E$2:$G$100,2,TRUE) -> 119490,13 - 127008,13 | S365: =RANDBETWEEN(L365,M365) -> #VALUE!

Sheet 3_Sample_Item
A1: 27545037
A2: 55416013
A3: 93006859
A4: 123645023
A5: 237437528
A6: 254550541
A7: 326671411
A8: 355095997
A9: 511851896
A10: 578091983
A11: 640587193
A12: 659596494
... A26: 1953588118

Sheet 4_Sample_Results
A1: Num | B1: Invoice Number | C1: Recorded Amount | D1: Audit Amount | E1: Misstatement | F1: Taint | G1: Sampling Interval | H1: Transaction < Sampling Interval? | I1: Projected Misstatement
A2: 1 | B2: 27545037 | C2: =VLOOKUP('4_Sample_Results'!B2,Table1[[invoiceNumber]:[RecordedAmount]],6,FALSE) -> 7506 | D2: =VLOOKUP('4_Sample_Results'!B2,Table1[[invoiceNumber]:[RecordedAmount]],4,FALSE) -> 7506 | E2: =C2-D2 -> 0 | F2: =E2/C2 -> 0 | G2: ='2_Select_Sample_Item'!$K$5 -> 1482.616 | H2: =IF(C2<G2,"Yes","No") -> No | I2: =IF(AND(F2>0,H2="No"),E2,F2*G2) -> 0 | L2: Tolerable Misstatement: | M2: ='1_Sample_Size'!C4 -> 26464.695
A3: =A2+1 -> 2 | B3: 55416013 | C3: =VLOOKUP('4_Sample_Results'!B3,Table1[[invoiceNumber]:[RecordedAmount]],6,FALSE) -> 4201 | D3: =VLOOKUP('4_Sample_Results'!B3,Table1[[invoiceNumber]:[RecordedAmount]],4,FALSE) -> 4201 | E3: =C3-D3 -> 0 | F3: =E3/C3 -> 0 | G3: ='2_Select_Sample_Item'!$K$5 -> 1482.616 | H3: =IF(C3<G3,"Yes","No") -> No | I3: =IF(AND(F3>0,H3="No"),E3,F3*G3) -> 0 | L3: Risk of Incorrect Acceptance: | M3: 0.05
A4: =A3+1 -> 3 | B4: 93006859 | C4: =VLOOKUP('4_Sample_Results'!B4,Table1[[invoiceNumber]:[RecordedAmount]],6,FALSE) -> 2446 | D4: =VLOOKUP('4_Sample_Results'!B4,Table1[[invoiceNumber]:[RecordedAmount]],4,FALSE) -> 2446 | E4: =C4-D4 -> 0 | F4: =E4/C4 -> 0 | G4: ='2_Select_Sample_Item'!$K$5 -> 1482.616 | H4: =IF(C4<G4,"Yes","No") -> No | I4: =IF(AND(F4>0,H4="No"),E4,F4*G4) -> 0 | L4: Confidence Factor (when no missstatement found): | M4: 3
A5: =A4+1 -> 4 | B5: 123645023 | C5: =VLOOKUP('4_Sample_Results'!B5,Table1[[invoiceNumber]:[RecordedAmount]],6,FALSE) -> 4436 | D5: =VLOOKUP('4_Sample_Results'!B5,Table1[[invoiceNumber]:[RecordedAmount]],4,FALSE) -> 4436 | E5: =C5-D5 -> 0 | F5: =E5/C5 -> 0 | G5: ='2_Select_Sample_Item'!$K$5 -> 1482.616 | H5: =IF(C5<G5,"Yes","No") -> No | I5: =IF(AND(F5>0,H5="No"),E5,F5*G5) -> 0 | L5: Confidence Factor (when missstatement found): | M5: ='1_Sample_Size'!C7 -> 17.85
A6: =A5+1 -> 5 | B6: 237437528 | C6: =VLOOKUP('4_Sample_Results'!B6,Table1[[invoiceNumber]:[RecordedAmount]],6,FALSE) -> 3569 | D6: =VLOOKUP('4_Sample_Results'!B6,Table1[[invoiceNumber]:[RecordedAmount]],4,FALSE) -> 3569 | E6: =C6-D6 -> 0 | F6: =E6/C6 -> 0 | G6: ='2_Select_Sample_Item'!$K$5 -> 1482.616 | H6: =IF(C6<G6,"Yes","No") -> No | I6: =IF(AND(F6>0,H6="No"),E6,F6*G6) -> 0 | L6: Sampling Interval: | M6: ='2_Select_Sample_Item'!K5 -> 1482.616
A7: =A6+1 -> 6 | B7: 254550541 | C7: =VLOOKUP('4_Sample_Results'!B7,Table1[[invoiceNumber]:[RecordedAmount]],6,FALSE) -> 6159 | D7: =VLOOKUP('4_Sample_Results'!B7,Table1[[invoiceNumber]:[RecordedAmount]],4,FALSE) -> 6159 | E7: =C7-D7 -> 0 | F7: =E7/C7 -> 0 | G7: ='2_Select_Sample_Item'!$K$5 -> 1482.616 | H7: =IF(C7<G7,"Yes","No") -> No | I7: =IF(AND(F7>0,H7="No"),E7,F7*G7) -> 0
A8: =A7+1 -> 7 | B8: 326671411 | C8: =VLOOKUP('4_Sample_Results'!B8,Table1[[invoiceNumber]:[RecordedAmount]],6,FALSE) -> 1398.3 | D8: =VLOOKUP('4_Sample_Results'!B8,Table1[[invoiceNumber]:[RecordedAmount]],4,FALSE) -> 885 | E8: =C8-D8 -> 513.3 | F8: =E8/C8 -> 0.36708861 | G8: ='2_Select_Sample_Item'!$K$5 -> 1482.616 | H8: =IF(C8<G8,"Yes","No") -> Yes | I8: =IF(AND(F8>0,H8="No"),E8,F8*G8) -> 544.25143 | L8: Basic Precission | M8: =M4*M6 -> 4447.8479 | N8: = Confidence Factor (when no misstatement found) * Sampling Interval
A9: =A8+1 -> 8 | B9: 355095997 | C9: =VLOOKUP('4_Sample_Results'!B9,Table1[[invoiceNumber]:[RecordedAmount]],6,FALSE) -> 3138 | D9: =VLOOKUP('4_Sample_Results'!B9,Table1[[invoiceNumber]:[RecordedAmount]],4,FALSE) -> 3138 | E9: =C9-D9 -> 0 | F9: =E9/C9 -> 0 | G9: ='2_Select_Sample_Item'!$K$5 -> 1482.616 | H9: =IF(C9<G9,"Yes","No") -> No | I9: =IF(AND(F9>0,H9="No"),E9,F9*G9) -> 0
A10: =A9+1 -> 9 | B10: 511851896 | C10: =VLOOKUP('4_Sample_Results'!B10,Table1[[invoiceNumber]:[RecordedAmount]],6,FALSE) -> 827 | D10: =VLOOKUP('4_Sample_Results'!B10,Table1[[invoiceNumber]:[RecordedAmount]],4,FALSE) -> 827 | E10: =C10-D10 -> 0 | F10: =E10/C10 -> 0 | G10: ='2_Select_Sample_Item'!$K$5 -> 1482.616 | H10: =IF(C10<G10,"Yes","No") -> Yes | I10: =IF(AND(F10>0,H10="No"),E10,F10*G10) -> 0
A11: =A10+1 -> 10 | B11: 578091983 | C11: =VLOOKUP('4_Sample_Results'!B11,Table1[[invoiceNumber]:[RecordedAmount]],6,FALSE) -> 6460.11 | D11: =VLOOKUP('4_Sample_Results'!B11,Table1[[invoiceNumber]:[RecordedAmount]],4,FALSE) -> 3609 | E11: =C11-D11 -> 2851.11 | F11: =E11/C11 -> 0.44134078 | G11: ='2_Select_Sample_Item'!$K$5 -> 1482.616 | H11: =IF(C11<G11,"Yes","No") -> No | I11: =IF(AND(F11>0,H11="No"),E11,F11*G11) -> 2851.11
A12: =A11+1 -> 11 | B12: 640587193 | C12: =VLOOKUP('4_Sample_Results'!B12,Table1[[invoiceNumber]:[RecordedAmount]],6,FALSE) -> 6418 | D12: =VLOOKUP('4_Sample_Results'!B12,Table1[[invoiceNumber]:[RecordedAmount]],4,FALSE) -> 6418 | E12: =C12-D12 -> 0 | F12: =E12/C12 -> 0 | G12: ='2_Select_Sample_Item'!$K$5 -> 1482.616 | H12: =IF(C12<G12,"Yes","No") -> No | I12: =IF(AND(F12>0,H12="No"),E12,F12*G12) -> 0
A13: =A12+1 -> 12 | B13: 659596494 | C13: =VLOOKUP('4_Sample_Results'!B13,Table1[[invoiceNumber]:[RecordedAmount]],6,FALSE) -> 7565 | D13: =VLOOKUP('4_Sample_Results'!B13,Table1[[invoiceNumber]:[RecordedAmount]],4,FALSE) -> 7565 | E13: =C13-D13 -> 0 | F13: =E13/C13 -> 0 | G13: ='2_Select_Sample_Item'!$K$5 -> 1482.616 | H13: =IF(C13<G13,"Yes","No") -> No | I13: =IF(AND(F13>0,H13="No"),E13,F13*G13) -> 0
A14: =A13+1 -> 13 | B14: 764361492 | C14: =VLOOKUP('4_Sample_Results'!B14,Table1[[invoiceNumber]:[RecordedAmount]],6,FALSE) -> 638 | D14: =VLOOKUP('4_Sample_Results'!B14,Table1[[invoiceNumber]:[RecordedAmount]],4,FALSE) -> 638 | E14: =C14-D14 -> 0 | F14: =E14/C14 -> 0 | G14: ='2_Select_Sample_Item'!$K$5 -> 1482.616 | H14: =IF(C14<G14,"Yes","No") -> Yes | I14: =IF(AND(F14>0,H14="No"),E14,F14*G14) -> 0
A15: =A14+1 -> 14 | B15: 881665013 | C15: =VLOOKUP('4_Sample_Results'!B15,Table1[[invoiceNumber]:[RecordedAmount]],6,FALSE) -> 3797 | D15: =VLOOKUP('4_Sample_Results'!B15,Table1[[invoiceNumber]:[RecordedAmount]],4,FALSE) -> 3797 | E15: =C15-D15 -> 0 | F15: =E15/C15 -> 0 | G15: ='2_Select_Sample_Item'!$K$5 -> 1482.616 | H15: =IF(C15<G15,"Yes","No") -> No | I15: =IF(AND(F15>0,H15="No"),E15,F15*G15) -> 0
A16: =A15+1 -> 15 | B16: 921537795 | C16: =VLOOKUP('4_Sample_Results'!B16,Table1[[invoiceNumber]:[RecordedAmount]],6,FALSE) -> 9120.72 | D16: =VLOOKUP('4_Sample_Results'!B16,Table1[[invoiceNumber]:[RecordedAmount]],4,FALSE) -> 4984 | E16: =C16-D16 -> 4136.72 | F16: =E16/C16 -> 0.45355191 | G16: ='2_Select_Sample_Item'!$K$5 -> 1482.616 | H16: =IF(C16<G16,"Yes","No") -> No | I16: =IF(AND(F16>0,H16="No"),E16,F16*G16) -> 4136.72
A17: =A16+1 -> 16 | B17: 936925570 | C17: =VLOOKUP('4_Sample_Results'!B17,Table1[[invoiceNumber]:[RecordedAmount]],6,FALSE) -> 3098 | D17: =VLOOKUP('4_Sample_Results'!B17,Table1[[invoiceNumber]:[RecordedAmount]],4,FALSE) -> 3098 | E17: =C17-D17 -> 0 | F17: =E17/C17 -> 0 | G17: ='2_Select_Sample_Item'!$K$5 -> 1482.616 | H17: =IF(C17<G17,"Yes","No") -> No | I17: =IF(AND(F17>0,H17="No"),E17,F17*G17) -> 0
A18: =A17+1 -> 17 | B18: 979439975 | C18: =VLOOKUP('4_Sample_Results'!B18,Table1[[invoiceNumber]:[RecordedAmount]],6,FALSE) -> 3962 | D18: =VLOOKUP('4_Sample_Results'!B18,Table1[[invoiceNumber]:[RecordedAmount]],4,FALSE) -> 3962 | E18: =C18-D18 -> 0 | F18: =E18/C18 -> 0 | G18: ='2_Select_Sample_Item'!$K$5 -> 1482.616 | H18: =IF(C18<G18,"Yes","No") -> No | I18: =IF(AND(F18>0,H18="No"),E18,F18*G18) -> 0
A19: =A18+1 -> 18 | B19: 1006151066 | C19: =VLOOKUP('4_Sample_Results'!B19,Table1[[invoiceNumber]:[RecordedAmount]],6,FALSE) -> 8366 | D19: =VLOOKUP('4_Sample_Results'!B19,Table1[[invoiceNumber]:[RecordedAmount]],4,FALSE) -> 8366 | E19: =C19-D19 -> 0 | F19: =E19/C19 -> 0 | G19: ='2_Select_Sample_Item'!$K$5 -> 1482.616 | H19: =IF(C19<G19,"Yes","No") -> No | I19: =IF(AND(F19>0,H19="No"),E19,F19*G19) -> 0
A20: =A19+1 -> 19 | B20: 1282903123 | C20: =VLOOKUP('4_Sample_Results'!B20,Table1[[invoiceNumber]:[RecordedAmount]],6,FALSE) -> 5932 | D20: =VLOOKUP('4_Sample_Results'!B20,Table1[[invoiceNumber]:[RecordedAmount]],4,FALSE) -> 5932 | E20: =C20-D20 -> 0 | F20: =E20/C20 -> 0 | G20: ='2_Select_Sample_Item'!$K$5 -> 1482.616 | H20: =IF(C20<G20,"Yes","No") -> No | I20: =IF(AND(F20>0,H20="No"),E20,F20*G20) -> 0
... A27: =A26+1 -> 26 | B27: 1953588118 | C27: =VLOOKUP('4_Sample_Results'!B27,Table1[[invoiceNumber]:[RecordedAmount]],6,FALSE) -> 5105 | D27: =VLOOKUP('4_Sample_Results'!B27,Table1[[invoiceNumber]:[RecordedAmount]],4,FALSE) -> 5105 | E27: =C27-D27 -> 0 | F27: =E27/C27 -> 0 | G27: ='2_Select_Sample_Item'!$K$5 -> 1482.616 | H27: =IF(C27<G27,"Yes","No") -> No | I27: =IF(AND(F27>0,H27="No"),E27,F27*G27) -> 0
I28: =SUM(I2:I27) -> 7532.0814
A32: Logical Unit (Sales) Less Than Sampling Interval
A33: Num | B33: Invoice Number | C33: Recorded Amount | D33: Audit Amount | E33: Misstatement | F33: Taint | G33: Sampling Interval | H33: Transaction < Sampling Interval? | I33: Projected Misstatement | J33: Incremental Changes in Confidence Factor | K33: Projected Misstatement + Incremental Allowance for Sampling Risk
A34: 1 | B34: 326671411 | C34: 1398.3 | D34: 885 | E34: 513.3 | F34: 0.36708861 | G34: 1482.616 | H34: Yes | I34: 544.25143 | J34: 1.75 | K34: =I34*J34 -> 952.44
B35: Sum | C35: =C34 -> 1398.3 | D35: =D34 -> 885 | E35: =E34 -> 513.3 | I35: =I34 -> 544.25143 | K35: =K34 -> 952.44
A38: Logical Unit (Sales) Greater Than Sampling Interval
A39: Num | B39: Invoice Number | C39: Recorded Amount | D39: Audit Amount | E39: Misstatement
A40: 1 | B40: 578091983 | C40: 6460.11 | D40: 3609 | E40: 2851.11
A41: 2 | B41: 921537795 | C41: 9120.72 | D41: 4984 | E41: 4136.72
B42: Sum | C42: =SUM(C40:C41) -> 15580.83 | D42: =SUM(D40:D41) -> 8593 | E42: =SUM(E40:E41) -> 6987.83
I44: Sample, with misstatement, less than sampling interval | K44: =K35 -> 952.44
I45: [Sum of (Projected Misstatement * Incremental Changes in Confidence Factor)]
I46: Sample, with misstatement, greater than sampling interval | K46: =E42 -> 6987.83
I47: [Sum of (Logical Unit's Error)]
I48: Basic precission | K48: =M8 -> 4447.8479
I50: Upper Limit on Misstatement | K50: =SUM(K44:K49) -> 12388.118
I52: Tolerable Misstatement | K52: =M2 -> 26464.695
I54: Conclusion | K54: =IF(K50<K52,"The population misstatement is within the acceptable limit.","The sample findings do not provide sufficient evidence to conclude that the population's misstatement is within the acceptable threshold.") -> The population misstatement is within the acceptable limit.
